BEGIN:VCALENDAR
VERSION:2.0
PRODID:-//JetSet Media - ECPv6.15.20//NONSGML v1.0//EN
CALSCALE:GREGORIAN
METHOD:PUBLISH
X-ORIGINAL-URL:https://jetsetmedia.com
X-WR-CALDESC:Events for JetSet Media
REFRESH-INTERVAL;VALUE=DURATION:PT1H
X-Robots-Tag:noindex
X-PUBLISHED-TTL:PT1H
BEGIN:VTIMEZONE
TZID:Europe/Guernsey
BEGIN:DAYLIGHT
TZOFFSETFROM:+0000
TZOFFSETTO:+0100
TZNAME:BST
DTSTART:20240331T010000
END:DAYLIGHT
BEGIN:STANDARD
TZOFFSETFROM:+0100
TZOFFSETTO:+0000
TZNAME:GMT
DTSTART:20241027T010000
END:STANDARD
BEGIN:DAYLIGHT
TZOFFSETFROM:+0000
TZOFFSETTO:+0100
TZNAME:BST
DTSTART:20250330T010000
END:DAYLIGHT
BEGIN:STANDARD
TZOFFSETFROM:+0100
TZOFFSETTO:+0000
TZNAME:GMT
DTSTART:20251026T010000
END:STANDARD
BEGIN:DAYLIGHT
TZOFFSETFROM:+0000
TZOFFSETTO:+0100
TZNAME:BST
DTSTART:20260329T010000
END:DAYLIGHT
BEGIN:STANDARD
TZOFFSETFROM:+0100
TZOFFSETTO:+0000
TZNAME:GMT
DTSTART:20261025T010000
END:STANDARD
END:VTIMEZONE
BEGIN:VEVENT
DTSTART;TZID=Europe/Guernsey:20250520T110000
DTEND;TZID=Europe/Guernsey:20250615T180000
DTSTAMP:20260422T231634
CREATED:20241017T213027Z
LAST-MODIFIED:20241017T213027Z
UID:763-1747738800-1750010400@jetsetmedia.com
SUMMARY:Cartier Queen's Cup
DESCRIPTION:The Cartier Queen’s Cup is one of the most prestigious polo tournaments in the world\, attracting top players and teams. It is known for its high level of competition and glamorous social events.
URL:https://jetsetmedia.com/event/cartier-queens-cup/
LOCATION:Guards Polo Club\, Blacknest Gate\, Smith's Lawn\, Windsor Great Park\, Surrey\, Egham\, SL5 7SA\, United Kingdom
CATEGORIES:Polo
ATTACH;FMTTYPE=image/jpeg:https://jetsetmedia.com/wp-content/uploads/PoloEvents.jpg
END:VEVENT
BEGIN:VEVENT
DTSTART;TZID=Europe/Guernsey:20250617T103000
DTEND;TZID=Europe/Guernsey:20250621T180000
DTSTAMP:20260422T231634
CREATED:20241017T213012Z
LAST-MODIFIED:20241227T175014Z
UID:757-1750156200-1750528800@jetsetmedia.com
SUMMARY:Royal Ascot
DESCRIPTION:Royal Ascot is one of the most prestigious horse racing events in the world\, known for its royal connections\, high fashion\, and top-class racing.
URL:https://jetsetmedia.com/event/royal-ascot/
LOCATION:Ascot Racecourse\, High St\, Ascot\, SL5 7JX\, United Kingdom
CATEGORIES:Horse Race
ATTACH;FMTTYPE=image/png:https://jetsetmedia.com/wp-content/uploads/HorseRace_resized-3.png
END:VEVENT
END:VCALENDAR