BEGIN:VCALENDAR
VERSION:2.0
PRODID:-//JetSet Media - ECPv6.15.20//NONSGML v1.0//EN
CALSCALE:GREGORIAN
METHOD:PUBLISH
X-WR-CALNAME:JetSet Media
X-ORIGINAL-URL:https://jetsetmedia.com
X-WR-CALDESC:Events for JetSet Media
REFRESH-INTERVAL;VALUE=DURATION:PT1H
X-Robots-Tag:noindex
X-PUBLISHED-TTL:PT1H
BEGIN:VTIMEZONE
TZID:America/Chicago
BEGIN:DAYLIGHT
TZOFFSETFROM:-0600
TZOFFSETTO:-0500
TZNAME:CDT
DTSTART:20240310T080000
END:DAYLIGHT
BEGIN:STANDARD
TZOFFSETFROM:-0500
TZOFFSETTO:-0600
TZNAME:CST
DTSTART:20241103T070000
END:STANDARD
BEGIN:DAYLIGHT
TZOFFSETFROM:-0600
TZOFFSETTO:-0500
TZNAME:CDT
DTSTART:20250309T080000
END:DAYLIGHT
BEGIN:STANDARD
TZOFFSETFROM:-0500
TZOFFSETTO:-0600
TZNAME:CST
DTSTART:20251102T070000
END:STANDARD
BEGIN:DAYLIGHT
TZOFFSETFROM:-0600
TZOFFSETTO:-0500
TZNAME:CDT
DTSTART:20260308T080000
END:DAYLIGHT
BEGIN:STANDARD
TZOFFSETFROM:-0500
TZOFFSETTO:-0600
TZNAME:CST
DTSTART:20261101T070000
END:STANDARD
END:VTIMEZONE
BEGIN:VEVENT
DTSTART;VALUE=DATE:20250705
DTEND;VALUE=DATE:20250706
DTSTAMP:20260422T184833
CREATED:20250430T211950Z
LAST-MODIFIED:20250430T211950Z
UID:1082-1751673600-1751759999@jetsetmedia.com
SUMMARY:Hampton's Polo House Season Opening
DESCRIPTION:The Season Opening at Hampton’s Polo House offers an unparalleled fusion of sport\, luxury\, and high society. Attendees can expect world-class polo matches\, high-profile networking opportunities\, and ultra-exclusive après-polo celebrations. The event brings together influential figures from business\, fashion\, real estate\, and entertainment\, providing an unmatched summer experience in the Hamptons.
URL:https://jetsetmedia.com/event/hamptons-polo-house-season-opening/
LOCATION:Hamptons Polo Club\, 206 Millstone Rd\, Water Mill\, NY\, United States
CATEGORIES:Polo
ATTACH;FMTTYPE=image/jpeg:https://jetsetmedia.com/wp-content/uploads/PoloEvents-1.jpg
END:VEVENT
END:VCALENDAR