BEGIN:VCALENDAR
VERSION:2.0
PRODID:-//JetSet Media - ECPv6.15.20//NONSGML v1.0//EN
CALSCALE:GREGORIAN
METHOD:PUBLISH
X-ORIGINAL-URL:https://jetsetmedia.com
X-WR-CALDESC:Events for JetSet Media
REFRESH-INTERVAL;VALUE=DURATION:PT1H
X-Robots-Tag:noindex
X-PUBLISHED-TTL:PT1H
BEGIN:VTIMEZONE
TZID:Europe/Paris
BEGIN:DAYLIGHT
TZOFFSETFROM:+0100
TZOFFSETTO:+0200
TZNAME:CEST
DTSTART:20250330T010000
END:DAYLIGHT
BEGIN:STANDARD
TZOFFSETFROM:+0200
TZOFFSETTO:+0100
TZNAME:CET
DTSTART:20251026T010000
END:STANDARD
BEGIN:DAYLIGHT
TZOFFSETFROM:+0100
TZOFFSETTO:+0200
TZNAME:CEST
DTSTART:20260329T010000
END:DAYLIGHT
BEGIN:STANDARD
TZOFFSETFROM:+0200
TZOFFSETTO:+0100
TZNAME:CET
DTSTART:20261025T010000
END:STANDARD
BEGIN:DAYLIGHT
TZOFFSETFROM:+0100
TZOFFSETTO:+0200
TZNAME:CEST
DTSTART:20270328T010000
END:DAYLIGHT
BEGIN:STANDARD
TZOFFSETFROM:+0200
TZOFFSETTO:+0100
TZNAME:CET
DTSTART:20271031T010000
END:STANDARD
END:VTIMEZONE
BEGIN:VEVENT
DTSTART;VALUE=DATE:20260123
DTEND;VALUE=DATE:20260126
DTSTAMP:20260423T144008
CREATED:20241017T213028Z
LAST-MODIFIED:20250502T183616Z
UID:764-1769126400-1769385599@jetsetmedia.com
SUMMARY:St. Moritze Polo World Cup on Snow
DESCRIPTION:The Snow Polo World Cup St. Moritz is a premier international polo tournament held annually on the frozen Lake St. Moritz. Since 1985\, it has been the most important snow polo tournament in the world. Six high-goal teams\, composed of world-class players\, compete in this unique spectacle\, combining style\, beauty\, tradition\, and emotion against the stunning backdrop of the Engadine Valley. The event is renowned for its elegance and the unique atmosphere on Lake St. Moritz.
URL:https://jetsetmedia.com/event/st-moritze-polo-world-cup-on-snow/
LOCATION:Lake St. Moritz\, St. Moritz\, Switzerland
CATEGORIES:Polo
ATTACH;FMTTYPE=image/jpeg:https://jetsetmedia.com/wp-content/uploads/PoloEvents.jpg
END:VEVENT
END:VCALENDAR