BEGIN:VCALENDAR
VERSION:2.0
PRODID:-//JetSet Media - ECPv6.15.20//NONSGML v1.0//EN
CALSCALE:GREGORIAN
METHOD:PUBLISH
X-WR-CALNAME:JetSet Media
X-ORIGINAL-URL:https://jetsetmedia.com
X-WR-CALDESC:Events for JetSet Media
REFRESH-INTERVAL;VALUE=DURATION:PT1H
X-Robots-Tag:noindex
X-PUBLISHED-TTL:PT1H
BEGIN:VTIMEZONE
TZID:Europe/Paris
BEGIN:DAYLIGHT
TZOFFSETFROM:+0100
TZOFFSETTO:+0200
TZNAME:CEST
DTSTART:20230326T010000
END:DAYLIGHT
BEGIN:STANDARD
TZOFFSETFROM:+0200
TZOFFSETTO:+0100
TZNAME:CET
DTSTART:20231029T010000
END:STANDARD
BEGIN:DAYLIGHT
TZOFFSETFROM:+0100
TZOFFSETTO:+0200
TZNAME:CEST
DTSTART:20240331T010000
END:DAYLIGHT
BEGIN:STANDARD
TZOFFSETFROM:+0200
TZOFFSETTO:+0100
TZNAME:CET
DTSTART:20241027T010000
END:STANDARD
BEGIN:DAYLIGHT
TZOFFSETFROM:+0100
TZOFFSETTO:+0200
TZNAME:CEST
DTSTART:20250330T010000
END:DAYLIGHT
BEGIN:STANDARD
TZOFFSETFROM:+0200
TZOFFSETTO:+0100
TZNAME:CET
DTSTART:20251026T010000
END:STANDARD
END:VTIMEZONE
BEGIN:VEVENT
DTSTART;TZID=Europe/Paris:20241018T110000
DTEND;TZID=Europe/Paris:20241020T190000
DTSTAMP:20260420T220537
CREATED:20241017T211201Z
LAST-MODIFIED:20241017T211201Z
UID:699-1729249200-1729450800@jetsetmedia.com
SUMMARY:Art Basel
DESCRIPTION:Art Basel stages the world’s premier modern and contemporary art fairs annually in Basel\, Miami Beach\, and Hong Kong. The fairs bring the international art world together\, with leading galleries showcasing the works of over 4\,000 artists.
URL:https://jetsetmedia.com/event/art-basel/
LOCATION:Grand Palais\, 3 avenue du Général Eisenhower\, Paris\, 75008\, France
CATEGORIES:Art
ATTACH;FMTTYPE=image/png:https://jetsetmedia.com/wp-content/uploads/ArtBasel_Paris.png
END:VEVENT
END:VCALENDAR