BEGIN:VCALENDAR
VERSION:2.0
PRODID:-//JetSet Media - ECPv6.15.20//NONSGML v1.0//EN
CALSCALE:GREGORIAN
METHOD:PUBLISH
X-WR-CALNAME:JetSet Media
X-ORIGINAL-URL:https://jetsetmedia.com
X-WR-CALDESC:Events for JetSet Media
REFRESH-INTERVAL;VALUE=DURATION:PT1H
X-Robots-Tag:noindex
X-PUBLISHED-TTL:PT1H
BEGIN:VTIMEZONE
TZID:America/Chicago
BEGIN:DAYLIGHT
TZOFFSETFROM:-0600
TZOFFSETTO:-0500
TZNAME:CDT
DTSTART:20250309T080000
END:DAYLIGHT
BEGIN:STANDARD
TZOFFSETFROM:-0500
TZOFFSETTO:-0600
TZNAME:CST
DTSTART:20251102T070000
END:STANDARD
BEGIN:DAYLIGHT
TZOFFSETFROM:-0600
TZOFFSETTO:-0500
TZNAME:CDT
DTSTART:20260308T080000
END:DAYLIGHT
BEGIN:STANDARD
TZOFFSETFROM:-0500
TZOFFSETTO:-0600
TZNAME:CST
DTSTART:20261101T070000
END:STANDARD
BEGIN:DAYLIGHT
TZOFFSETFROM:-0600
TZOFFSETTO:-0500
TZNAME:CDT
DTSTART:20270314T080000
END:DAYLIGHT
BEGIN:STANDARD
TZOFFSETFROM:-0500
TZOFFSETTO:-0600
TZNAME:CST
DTSTART:20271107T070000
END:STANDARD
END:VTIMEZONE
BEGIN:VEVENT
DTSTART;VALUE=DATE:20260522
DTEND;VALUE=DATE:20260525
DTSTAMP:20260421T093347
CREATED:20260227T190209Z
LAST-MODIFIED:20260227T190209Z
UID:1291-1779408000-1779667199@jetsetmedia.com
SUMMARY:BottleRock Napa Valley
DESCRIPTION:BottleRock Napa Valley is an annual music\, wine\, and culinary festival held in Napa\, California. Launched in 2013\, the festival combines live music performances\, wine tastings from Napa Valley wineries\, gourmet food experiences\, craft beers\, spirits\, and lifestyle experiences\, making it one of the premier cultural events in Northern California. BottleRock attracts music fans\, foodies\, wine enthusiasts\, and visitors from across the U.S. and internationally\, celebrating Napa’s rich culinary and viticulture heritage.
URL:https://jetsetmedia.com/event/bottlerock-napa-valley/
LOCATION:Napa Valley Expo\, 575 3rd St\, Napa\, California\, 94559\, United States
CATEGORIES:Food Festival
ATTACH;FMTTYPE=image/png:https://jetsetmedia.com/wp-content/uploads/RestaurantShow.png
END:VEVENT
END:VCALENDAR