BEGIN:VCALENDAR
VERSION:2.0
PRODID:-//JetSet Media - ECPv6.15.20//NONSGML v1.0//EN
CALSCALE:GREGORIAN
METHOD:PUBLISH
X-ORIGINAL-URL:https://jetsetmedia.com
X-WR-CALDESC:Events for JetSet Media
REFRESH-INTERVAL;VALUE=DURATION:PT1H
X-Robots-Tag:noindex
X-PUBLISHED-TTL:PT1H
BEGIN:VTIMEZONE
TZID:Asia/Singapore
BEGIN:STANDARD
TZOFFSETFROM:+0800
TZOFFSETTO:+0800
TZNAME:+08
DTSTART:20250101T000000
END:STANDARD
END:VTIMEZONE
BEGIN:VEVENT
DTSTART;VALUE=DATE:20260123
DTEND;VALUE=DATE:20260126
DTSTAMP:20260419T111912
CREATED:20241017T211203Z
LAST-MODIFIED:20250502T183057Z
UID:702-1769126400-1769385599@jetsetmedia.com
SUMMARY:Art SG
DESCRIPTION:ART SG is Southeast Asia’s leading international art fair\, showcasing visionary and iconic contemporary art from the region and around the world. Held at the Marina Bay Sands Expo and Convention Centre in Singapore\, the fair features a stellar lineup of international and regional art galleries alongside a curated program of large-scale installations\, experimental film and moving image\, thought-provoking panel discussions\, and performances. ART SG fosters artistic excellence and cultural dialogue across Southeast Asia and the broader Asia Pacific region.
URL:https://jetsetmedia.com/event/art-sg/
LOCATION:Marina Bay Sands Expo and Convention Centre\, 10 Bayfront Ave\, 018956\, Singapore
CATEGORIES:Art
ATTACH;FMTTYPE=image/png:https://jetsetmedia.com/wp-content/uploads/ArtSG_Resized.png
END:VEVENT
END:VCALENDAR