BEGIN:VCALENDAR
VERSION:2.0
PRODID:-//JetSet Media - ECPv6.15.20//NONSGML v1.0//EN
CALSCALE:GREGORIAN
METHOD:PUBLISH
X-ORIGINAL-URL:https://jetsetmedia.com
X-WR-CALDESC:Events for JetSet Media
REFRESH-INTERVAL;VALUE=DURATION:PT1H
X-Robots-Tag:noindex
X-PUBLISHED-TTL:PT1H
BEGIN:VTIMEZONE
TZID:America/Chicago
BEGIN:DAYLIGHT
TZOFFSETFROM:-0600
TZOFFSETTO:-0500
TZNAME:CDT
DTSTART:20250309T080000
END:DAYLIGHT
BEGIN:STANDARD
TZOFFSETFROM:-0500
TZOFFSETTO:-0600
TZNAME:CST
DTSTART:20251102T070000
END:STANDARD
BEGIN:DAYLIGHT
TZOFFSETFROM:-0600
TZOFFSETTO:-0500
TZNAME:CDT
DTSTART:20260308T080000
END:DAYLIGHT
BEGIN:STANDARD
TZOFFSETFROM:-0500
TZOFFSETTO:-0600
TZNAME:CST
DTSTART:20261101T070000
END:STANDARD
BEGIN:DAYLIGHT
TZOFFSETFROM:-0600
TZOFFSETTO:-0500
TZNAME:CDT
DTSTART:20270314T080000
END:DAYLIGHT
BEGIN:STANDARD
TZOFFSETFROM:-0500
TZOFFSETTO:-0600
TZNAME:CST
DTSTART:20271107T070000
END:STANDARD
END:VTIMEZONE
BEGIN:VEVENT
DTSTART;VALUE=DATE:20260507
DTEND;VALUE=DATE:20260511
DTSTAMP:20260421T085612
CREATED:20260227T185044Z
LAST-MODIFIED:20260227T185044Z
UID:1274-1778112000-1778457599@jetsetmedia.com
SUMMARY:Vegas Uncork’d
DESCRIPTION:Vegas Uncork’d is an annual luxury culinary festival held in Las Vegas\, Nevada\, celebrating the city’s vibrant food and beverage scene. Hosted by the Las Vegas Convention and Visitors Authority (LVCVA)\, the festival features world-renowned chefs\, gourmet tastings\, wine and spirit pairings\, cooking demonstrations\, and exclusive dining experiences. Vegas Uncork’d is known for combining fine dining\, entertainment\, and Las Vegas luxury hospitality\, attracting both local and international food enthusiasts.
URL:https://jetsetmedia.com/event/vegas-uncorkd/
LOCATION:Las Vegas\, Las Vegas\, NV\, 89109\, United States
CATEGORIES:Food Festival
ATTACH;FMTTYPE=image/png:https://jetsetmedia.com/wp-content/uploads/RestaurantShow.png
END:VEVENT
END:VCALENDAR