BEGIN:VCALENDAR
VERSION:2.0
PRODID:-//JetSet Media - ECPv6.15.20//NONSGML v1.0//EN
CALSCALE:GREGORIAN
METHOD:PUBLISH
X-ORIGINAL-URL:https://jetsetmedia.com
X-WR-CALDESC:Events for JetSet Media
REFRESH-INTERVAL;VALUE=DURATION:PT1H
X-Robots-Tag:noindex
X-PUBLISHED-TTL:PT1H
BEGIN:VTIMEZONE
TZID:America/Chicago
BEGIN:DAYLIGHT
TZOFFSETFROM:-0600
TZOFFSETTO:-0500
TZNAME:CDT
DTSTART:20250309T080000
END:DAYLIGHT
BEGIN:STANDARD
TZOFFSETFROM:-0500
TZOFFSETTO:-0600
TZNAME:CST
DTSTART:20251102T070000
END:STANDARD
BEGIN:DAYLIGHT
TZOFFSETFROM:-0600
TZOFFSETTO:-0500
TZNAME:CDT
DTSTART:20260308T080000
END:DAYLIGHT
BEGIN:STANDARD
TZOFFSETFROM:-0500
TZOFFSETTO:-0600
TZNAME:CST
DTSTART:20261101T070000
END:STANDARD
BEGIN:DAYLIGHT
TZOFFSETFROM:-0600
TZOFFSETTO:-0500
TZNAME:CDT
DTSTART:20270314T080000
END:DAYLIGHT
BEGIN:STANDARD
TZOFFSETFROM:-0500
TZOFFSETTO:-0600
TZNAME:CST
DTSTART:20271107T070000
END:STANDARD
END:VTIMEZONE
BEGIN:VEVENT
DTSTART;VALUE=DATE:20260226
DTEND;VALUE=DATE:20260302
DTSTAMP:20260419T144621
CREATED:20250422T165016Z
LAST-MODIFIED:20260227T154821Z
UID:1037-1772064000-1772409599@jetsetmedia.com
SUMMARY:Frieze Masters Art Show Los Angeles
DESCRIPTION:Frieze LA brings together around 95+ international and Los Angeles–based galleries each year\, showcasing contemporary art across media — including painting\, sculpture\, photography\, installation\, video\, and performance. Galleries from North America\, Europe\, Latin America\, Asia\, Africa\, and the Middle East participate.
URL:https://jetsetmedia.com/event/frieze-masters-art-show-2/
LOCATION:Santa Monica Airport (Barker Hangar)\, 3021 Airport Ave\, Santa Monica\, CA\, 90405\, United States
CATEGORIES:Art
ATTACH;FMTTYPE=image/png:https://jetsetmedia.com/wp-content/uploads/ArtShow_Resized.png
END:VEVENT
END:VCALENDAR