BEGIN:VCALENDAR
VERSION:2.0
PRODID:-//JetSet Media - ECPv6.15.20//NONSGML v1.0//EN
CALSCALE:GREGORIAN
METHOD:PUBLISH
X-WR-CALNAME:JetSet Media
X-ORIGINAL-URL:https://jetsetmedia.com
X-WR-CALDESC:Events for JetSet Media
REFRESH-INTERVAL;VALUE=DURATION:PT1H
X-Robots-Tag:noindex
X-PUBLISHED-TTL:PT1H
BEGIN:VTIMEZONE
TZID:America/New_York
BEGIN:DAYLIGHT
TZOFFSETFROM:-0500
TZOFFSETTO:-0400
TZNAME:EDT
DTSTART:20240310T070000
END:DAYLIGHT
BEGIN:STANDARD
TZOFFSETFROM:-0400
TZOFFSETTO:-0500
TZNAME:EST
DTSTART:20241103T060000
END:STANDARD
BEGIN:DAYLIGHT
TZOFFSETFROM:-0500
TZOFFSETTO:-0400
TZNAME:EDT
DTSTART:20250309T070000
END:DAYLIGHT
BEGIN:STANDARD
TZOFFSETFROM:-0400
TZOFFSETTO:-0500
TZNAME:EST
DTSTART:20251102T060000
END:STANDARD
BEGIN:DAYLIGHT
TZOFFSETFROM:-0500
TZOFFSETTO:-0400
TZNAME:EDT
DTSTART:20260308T070000
END:DAYLIGHT
BEGIN:STANDARD
TZOFFSETFROM:-0400
TZOFFSETTO:-0500
TZNAME:EST
DTSTART:20261101T060000
END:STANDARD
END:VTIMEZONE
BEGIN:VEVENT
DTSTART;TZID=America/New_York:20251029T100000
DTEND;TZID=America/New_York:20251102T190000
DTSTAMP:20260419T134211
CREATED:20241017T211624Z
LAST-MODIFIED:20241017T211624Z
UID:721-1761732000-1762110000@jetsetmedia.com
SUMMARY:Fort Lauderdale International Boat Show
DESCRIPTION:The Fort Lauderdale International Boat Show (FLIBS) is the largest in-water boat show in the world\, showcasing a wide array of boats\, yachts\, and marine products. It attracts over 100\,000 visitors and features more than 1\,300 boats on display.
URL:https://jetsetmedia.com/event/fort-lauderdale-international-boat-show-2/
LOCATION:Bahia Mar Yachting Center\, Las Olas Marina & SuperYacht Village\, 801 Seabreeze Blvd\, Fort Lauderdale\, FL\, 33316\, United States
CATEGORIES:Boat Show
ATTACH;FMTTYPE=image/png:https://jetsetmedia.com/wp-content/uploads/YachtShow_ToUse.png
END:VEVENT
END:VCALENDAR