BEGIN:VCALENDAR
VERSION:2.0
PRODID:-//JetSet Media - ECPv6.15.20//NONSGML v1.0//EN
CALSCALE:GREGORIAN
METHOD:PUBLISH
X-ORIGINAL-URL:https://jetsetmedia.com
X-WR-CALDESC:Events for JetSet Media
REFRESH-INTERVAL;VALUE=DURATION:PT1H
X-Robots-Tag:noindex
X-PUBLISHED-TTL:PT1H
BEGIN:VTIMEZONE
TZID:America/Chicago
BEGIN:DAYLIGHT
TZOFFSETFROM:-0600
TZOFFSETTO:-0500
TZNAME:CDT
DTSTART:20250309T080000
END:DAYLIGHT
BEGIN:STANDARD
TZOFFSETFROM:-0500
TZOFFSETTO:-0600
TZNAME:CST
DTSTART:20251102T070000
END:STANDARD
BEGIN:DAYLIGHT
TZOFFSETFROM:-0600
TZOFFSETTO:-0500
TZNAME:CDT
DTSTART:20260308T080000
END:DAYLIGHT
BEGIN:STANDARD
TZOFFSETFROM:-0500
TZOFFSETTO:-0600
TZNAME:CST
DTSTART:20261101T070000
END:STANDARD
BEGIN:DAYLIGHT
TZOFFSETFROM:-0600
TZOFFSETTO:-0500
TZNAME:CDT
DTSTART:20270314T080000
END:DAYLIGHT
BEGIN:STANDARD
TZOFFSETFROM:-0500
TZOFFSETTO:-0600
TZNAME:CST
DTSTART:20271107T070000
END:STANDARD
END:VTIMEZONE
BEGIN:VEVENT
DTSTART;VALUE=DATE:20260522
DTEND;VALUE=DATE:20260525
DTSTAMP:20260419T111230
CREATED:20260227T185945Z
LAST-MODIFIED:20260227T185945Z
UID:1286-1779408000-1779667199@jetsetmedia.com
SUMMARY:Formula 1 Canadian Grand Prix
DESCRIPTION:The Formula 1 Canadian Grand Prix is an annual Formula 1 motor racing event held in Montreal\, Quebec\, Canada. First held in 1961\, it is part of the FIA Formula One World Championship and is one of the most popular F1 races in North America. The race is renowned for its challenging street circuit layout\, unpredictable weather\, and vibrant fan atmosphere\, attracting international drivers\, teams\, and spectators.
URL:https://jetsetmedia.com/event/formula-1-canadian-grand-prix/
LOCATION:Circuit Gilles Villeneuve\, Île Notre‑Dame\, Montreal\, Quebec\, H3C 1A9\, Canada
CATEGORIES:Formula 1 Race
ATTACH;FMTTYPE=image/png:https://jetsetmedia.com/wp-content/uploads/Formula1_resized-7.png
END:VEVENT
END:VCALENDAR