BEGIN:VCALENDAR
VERSION:2.0
PRODID:-//JetSet Media - ECPv6.15.20//NONSGML v1.0//EN
CALSCALE:GREGORIAN
METHOD:PUBLISH
X-WR-CALNAME:JetSet Media
X-ORIGINAL-URL:https://jetsetmedia.com
X-WR-CALDESC:Events for JetSet Media
REFRESH-INTERVAL;VALUE=DURATION:PT1H
X-Robots-Tag:noindex
X-PUBLISHED-TTL:PT1H
BEGIN:VTIMEZONE
TZID:America/New_York
BEGIN:DAYLIGHT
TZOFFSETFROM:-0500
TZOFFSETTO:-0400
TZNAME:EDT
DTSTART:20240310T070000
END:DAYLIGHT
BEGIN:STANDARD
TZOFFSETFROM:-0400
TZOFFSETTO:-0500
TZNAME:EST
DTSTART:20241103T060000
END:STANDARD
BEGIN:DAYLIGHT
TZOFFSETFROM:-0500
TZOFFSETTO:-0400
TZNAME:EDT
DTSTART:20250309T070000
END:DAYLIGHT
BEGIN:STANDARD
TZOFFSETFROM:-0400
TZOFFSETTO:-0500
TZNAME:EST
DTSTART:20251102T060000
END:STANDARD
BEGIN:DAYLIGHT
TZOFFSETFROM:-0500
TZOFFSETTO:-0400
TZNAME:EDT
DTSTART:20260308T070000
END:DAYLIGHT
BEGIN:STANDARD
TZOFFSETFROM:-0400
TZOFFSETTO:-0500
TZNAME:EST
DTSTART:20261101T060000
END:STANDARD
END:VTIMEZONE
BEGIN:VEVENT
DTSTART;TZID=America/New_York:20251116T150000
DTEND;TZID=America/New_York:20251116T210000
DTSTAMP:20260422T195020
CREATED:20241017T213014Z
LAST-MODIFIED:20241227T181324Z
UID:761-1763305200-1763326800@jetsetmedia.com
SUMMARY:Ford 400
DESCRIPTION:The Ford 400 is a NASCAR Cup Series race held at Homestead-Miami Speedway in Homestead\, Florida. It is the final race of the NASCAR Cup Series season.
URL:https://jetsetmedia.com/event/ford-400/
LOCATION:Homestead-Miami Speedway\, One Ralph Sanchez\, Speedway Blvd\, Homestead\, FL\, 33035\, United States
CATEGORIES:NASCAR
ATTACH;FMTTYPE=image/png:https://jetsetmedia.com/wp-content/uploads/NASCAR_resized-2.png
END:VEVENT
END:VCALENDAR