BEGIN:VCALENDAR
VERSION:2.0
PRODID:-//JetSet Media - ECPv6.15.20//NONSGML v1.0//EN
CALSCALE:GREGORIAN
METHOD:PUBLISH
X-ORIGINAL-URL:https://jetsetmedia.com
X-WR-CALDESC:Events for JetSet Media
REFRESH-INTERVAL;VALUE=DURATION:PT1H
X-Robots-Tag:noindex
X-PUBLISHED-TTL:PT1H
BEGIN:VTIMEZONE
TZID:America/Chicago
BEGIN:DAYLIGHT
TZOFFSETFROM:-0600
TZOFFSETTO:-0500
TZNAME:CDT
DTSTART:20250309T080000
END:DAYLIGHT
BEGIN:STANDARD
TZOFFSETFROM:-0500
TZOFFSETTO:-0600
TZNAME:CST
DTSTART:20251102T070000
END:STANDARD
BEGIN:DAYLIGHT
TZOFFSETFROM:-0600
TZOFFSETTO:-0500
TZNAME:CDT
DTSTART:20260308T080000
END:DAYLIGHT
BEGIN:STANDARD
TZOFFSETFROM:-0500
TZOFFSETTO:-0600
TZNAME:CST
DTSTART:20261101T070000
END:STANDARD
BEGIN:DAYLIGHT
TZOFFSETFROM:-0600
TZOFFSETTO:-0500
TZNAME:CDT
DTSTART:20270314T080000
END:DAYLIGHT
BEGIN:STANDARD
TZOFFSETFROM:-0500
TZOFFSETTO:-0600
TZNAME:CST
DTSTART:20271107T070000
END:STANDARD
END:VTIMEZONE
BEGIN:VEVENT
DTSTART;VALUE=DATE:20260323
DTEND;VALUE=DATE:20260327
DTSTAMP:20260421T134608
CREATED:20260227T165513Z
LAST-MODIFIED:20260227T165513Z
UID:1219-1774224000-1774569599@jetsetmedia.com
SUMMARY:RSA Conference (RSAC)
DESCRIPTION:RSA Conference (RSAC) is one of the world’s leading cybersecurity conferences\, bringing together industry leaders\, security professionals\, technology companies\, government representatives\, and researchers to discuss current and emerging threats\, innovations\, and best practices in cybersecurity.
URL:https://jetsetmedia.com/event/rsa-conference-rsac/
LOCATION:Moscone Center\, 747 Howard St\, San Francisco\, CA\, 94103\, United States
CATEGORIES:Conventions
ATTACH;FMTTYPE=image/png:https://jetsetmedia.com/wp-content/uploads/Techonlogy.png
END:VEVENT
END:VCALENDAR