BEGIN:VCALENDAR
VERSION:2.0
PRODID:-//JetSet Media - ECPv6.15.20//NONSGML v1.0//EN
CALSCALE:GREGORIAN
METHOD:PUBLISH
X-WR-CALNAME:JetSet Media
X-ORIGINAL-URL:https://jetsetmedia.com
X-WR-CALDESC:Events for JetSet Media
REFRESH-INTERVAL;VALUE=DURATION:PT1H
X-Robots-Tag:noindex
X-PUBLISHED-TTL:PT1H
BEGIN:VTIMEZONE
TZID:America/Los_Angeles
BEGIN:DAYLIGHT
TZOFFSETFROM:-0800
TZOFFSETTO:-0700
TZNAME:PDT
DTSTART:20240310T100000
END:DAYLIGHT
BEGIN:STANDARD
TZOFFSETFROM:-0700
TZOFFSETTO:-0800
TZNAME:PST
DTSTART:20241103T090000
END:STANDARD
BEGIN:DAYLIGHT
TZOFFSETFROM:-0800
TZOFFSETTO:-0700
TZNAME:PDT
DTSTART:20250309T100000
END:DAYLIGHT
BEGIN:STANDARD
TZOFFSETFROM:-0700
TZOFFSETTO:-0800
TZNAME:PST
DTSTART:20251102T090000
END:STANDARD
BEGIN:DAYLIGHT
TZOFFSETFROM:-0800
TZOFFSETTO:-0700
TZNAME:PDT
DTSTART:20260308T100000
END:DAYLIGHT
BEGIN:STANDARD
TZOFFSETFROM:-0700
TZOFFSETTO:-0800
TZNAME:PST
DTSTART:20261101T090000
END:STANDARD
END:VTIMEZONE
BEGIN:VEVENT
DTSTART;TZID=America/Los_Angeles:20251031T100000
DTEND;TZID=America/Los_Angeles:20251101T180000
DTSTAMP:20260419T152526
CREATED:20241017T212822Z
LAST-MODIFIED:20241227T181029Z
UID:752-1761904800-1762020000@jetsetmedia.com
SUMMARY:Breeders Cup
DESCRIPTION:The Breeders’ Cup World Championships is an annual series of Grade I Thoroughbred horse races\, known for its high stakes and international competition.
URL:https://jetsetmedia.com/event/breeders-cup-2/
LOCATION:Del Mar Racetrack\, 2260 Jimmy Durante Blvd\, Del Mar\, CA\, 92014\, United States
CATEGORIES:Horse Race
ATTACH;FMTTYPE=image/png:https://jetsetmedia.com/wp-content/uploads/HorseRace_resized-4.png
END:VEVENT
END:VCALENDAR