BEGIN:VCALENDAR
VERSION:2.0
PRODID:-//JetSet Media - ECPv6.15.20//NONSGML v1.0//EN
CALSCALE:GREGORIAN
METHOD:PUBLISH
X-WR-CALNAME:JetSet Media
X-ORIGINAL-URL:https://jetsetmedia.com
X-WR-CALDESC:Events for JetSet Media
REFRESH-INTERVAL;VALUE=DURATION:PT1H
X-Robots-Tag:noindex
X-PUBLISHED-TTL:PT1H
BEGIN:VTIMEZONE
TZID:America/Chicago
BEGIN:DAYLIGHT
TZOFFSETFROM:-0600
TZOFFSETTO:-0500
TZNAME:CDT
DTSTART:20250309T080000
END:DAYLIGHT
BEGIN:STANDARD
TZOFFSETFROM:-0500
TZOFFSETTO:-0600
TZNAME:CST
DTSTART:20251102T070000
END:STANDARD
BEGIN:DAYLIGHT
TZOFFSETFROM:-0600
TZOFFSETTO:-0500
TZNAME:CDT
DTSTART:20260308T080000
END:DAYLIGHT
BEGIN:STANDARD
TZOFFSETFROM:-0500
TZOFFSETTO:-0600
TZNAME:CST
DTSTART:20261101T070000
END:STANDARD
BEGIN:DAYLIGHT
TZOFFSETFROM:-0600
TZOFFSETTO:-0500
TZNAME:CDT
DTSTART:20270314T080000
END:DAYLIGHT
BEGIN:STANDARD
TZOFFSETFROM:-0500
TZOFFSETTO:-0600
TZNAME:CST
DTSTART:20271107T070000
END:STANDARD
END:VTIMEZONE
BEGIN:VEVENT
DTSTART;VALUE=DATE:20260128
DTEND;VALUE=DATE:20260202
DTSTAMP:20260419T074243
CREATED:20241227T213652Z
LAST-MODIFIED:20250502T182740Z
UID:930-1769558400-1769990399@jetsetmedia.com
SUMMARY:Chicago Boat Show
DESCRIPTION:The Discover Boating Chicago Boat Show\, presented in partnership with Progressive Insurance®\, is the Midwest’s premier boating event. Celebrating its 94th year\, the 2026 show will feature a vast selection of boats\, marine accessories\, and engaging activities for all ages. Attendees can explore the latest in boating technology\, participate in interactive exhibits\, and enjoy family-friendly attractions. Highlights include the Discover Boating Beach Club\, PaddleFest Pool\, Fred’s Shed How-To Center\, and the Huck Finn Trout Pond for kids. Whether you’re a seasoned boater or new to the water\, this event offers something for everyone.
URL:https://jetsetmedia.com/event/chicago-boat-show/
LOCATION:Donald E. Stephens Convention & Conference Center\, Rosemont\, IL\, United States
CATEGORIES:Boat Show
ATTACH;FMTTYPE=image/png:https://jetsetmedia.com/wp-content/uploads/BoatShow.png
END:VEVENT
END:VCALENDAR