BEGIN:VCALENDAR
VERSION:2.0
PRODID:-//JetSet Media - ECPv6.15.20//NONSGML v1.0//EN
CALSCALE:GREGORIAN
METHOD:PUBLISH
X-ORIGINAL-URL:https://jetsetmedia.com
X-WR-CALDESC:Events for JetSet Media
REFRESH-INTERVAL;VALUE=DURATION:PT1H
X-Robots-Tag:noindex
X-PUBLISHED-TTL:PT1H
BEGIN:VTIMEZONE
TZID:America/Chicago
BEGIN:DAYLIGHT
TZOFFSETFROM:-0600
TZOFFSETTO:-0500
TZNAME:CDT
DTSTART:20250309T080000
END:DAYLIGHT
BEGIN:STANDARD
TZOFFSETFROM:-0500
TZOFFSETTO:-0600
TZNAME:CST
DTSTART:20251102T070000
END:STANDARD
BEGIN:DAYLIGHT
TZOFFSETFROM:-0600
TZOFFSETTO:-0500
TZNAME:CDT
DTSTART:20260308T080000
END:DAYLIGHT
BEGIN:STANDARD
TZOFFSETFROM:-0500
TZOFFSETTO:-0600
TZNAME:CST
DTSTART:20261101T070000
END:STANDARD
BEGIN:DAYLIGHT
TZOFFSETFROM:-0600
TZOFFSETTO:-0500
TZNAME:CDT
DTSTART:20270314T080000
END:DAYLIGHT
BEGIN:STANDARD
TZOFFSETFROM:-0500
TZOFFSETTO:-0600
TZNAME:CST
DTSTART:20271107T070000
END:STANDARD
END:VTIMEZONE
BEGIN:VEVENT
DTSTART;VALUE=DATE:20260501
DTEND;VALUE=DATE:20260504
DTSTAMP:20260421T085105
CREATED:20241017T212622Z
LAST-MODIFIED:20260227T180531Z
UID:744-1777593600-1777852799@jetsetmedia.com
SUMMARY:Formula 1 Miami Grand Prix
DESCRIPTION:The Formula 1 Miami Grand Prix is an annual Formula 1 motor racing event held in Miami\, Florida. First introduced in 2022\, it is part of the FIA Formula One World Championship calendar and has quickly become one of the most popular U.S. F1 races\, attracting international drivers\, teams\, and fans. The race is known for its vibrant Miami backdrop\, including waterfront streets\, luxury lifestyle elements\, and a festival-like atmosphere surrounding the race weekend.
URL:https://jetsetmedia.com/event/f1-usa-formula-1/
LOCATION:Miami International Autodrome (Hard Rock Stadium)\, 347 Don Shula Dr\, Miami Gardens\, FL\, 33056\, United States
CATEGORIES:Formula 1 Race
ATTACH;FMTTYPE=image/png:https://jetsetmedia.com/wp-content/uploads/Formula1_resized-4.png
END:VEVENT
END:VCALENDAR