BEGIN:VCALENDAR
VERSION:2.0
PRODID:-//JetSet Media - ECPv6.15.20//NONSGML v1.0//EN
CALSCALE:GREGORIAN
METHOD:PUBLISH
X-ORIGINAL-URL:https://jetsetmedia.com
X-WR-CALDESC:Events for JetSet Media
REFRESH-INTERVAL;VALUE=DURATION:PT1H
X-Robots-Tag:noindex
X-PUBLISHED-TTL:PT1H
BEGIN:VTIMEZONE
TZID:America/Chicago
BEGIN:DAYLIGHT
TZOFFSETFROM:-0600
TZOFFSETTO:-0500
TZNAME:CDT
DTSTART:20250309T080000
END:DAYLIGHT
BEGIN:STANDARD
TZOFFSETFROM:-0500
TZOFFSETTO:-0600
TZNAME:CST
DTSTART:20251102T070000
END:STANDARD
BEGIN:DAYLIGHT
TZOFFSETFROM:-0600
TZOFFSETTO:-0500
TZNAME:CDT
DTSTART:20260308T080000
END:DAYLIGHT
BEGIN:STANDARD
TZOFFSETFROM:-0500
TZOFFSETTO:-0600
TZNAME:CST
DTSTART:20261101T070000
END:STANDARD
BEGIN:DAYLIGHT
TZOFFSETFROM:-0600
TZOFFSETTO:-0500
TZNAME:CDT
DTSTART:20270314T080000
END:DAYLIGHT
BEGIN:STANDARD
TZOFFSETFROM:-0500
TZOFFSETTO:-0600
TZNAME:CST
DTSTART:20271107T070000
END:STANDARD
END:VTIMEZONE
BEGIN:VEVENT
DTSTART;VALUE=DATE:20261204
DTEND;VALUE=DATE:20261207
DTSTAMP:20260419T214309
CREATED:20250502T175444Z
LAST-MODIFIED:20260227T163055Z
UID:1087-1796342400-1796601599@jetsetmedia.com
SUMMARY:Art Basel Miami
DESCRIPTION:Art Basel Miami Beach is North America’s premier modern and contemporary art fair\, bringing together leading galleries\, artists\, collectors\, and art enthusiasts from around the world. Hosted in the vibrant city of Miami Beach\, the event showcases museum-quality paintings\, sculptures\, installations\, photography\, film\, and digital art from both established and emerging artists. With satellite fairs\, exclusive parties\, and immersive cultural experiences\, Art Basel transforms Miami into a global hub for creativity and innovation each December.
URL:https://jetsetmedia.com/event/art-basel-miami/
LOCATION:Miami Beach Convention Center\, 1901 Convention Center Drive\, Miami\, FL\, 33139\, United States
CATEGORIES:Art
ATTACH;FMTTYPE=image/png:https://jetsetmedia.com/wp-content/uploads/ArtBasel_Miami_Resized.png
END:VEVENT
END:VCALENDAR