BEGIN:VCALENDAR
VERSION:2.0
PRODID:-//JetSet Media - ECPv6.15.20//NONSGML v1.0//EN
CALSCALE:GREGORIAN
METHOD:PUBLISH
X-WR-CALNAME:JetSet Media
X-ORIGINAL-URL:https://jetsetmedia.com
X-WR-CALDESC:Events for JetSet Media
REFRESH-INTERVAL;VALUE=DURATION:PT1H
X-Robots-Tag:noindex
X-PUBLISHED-TTL:PT1H
BEGIN:VTIMEZONE
TZID:America/Chicago
BEGIN:DAYLIGHT
TZOFFSETFROM:-0600
TZOFFSETTO:-0500
TZNAME:CDT
DTSTART:20240310T080000
END:DAYLIGHT
BEGIN:STANDARD
TZOFFSETFROM:-0500
TZOFFSETTO:-0600
TZNAME:CST
DTSTART:20241103T070000
END:STANDARD
BEGIN:DAYLIGHT
TZOFFSETFROM:-0600
TZOFFSETTO:-0500
TZNAME:CDT
DTSTART:20250309T080000
END:DAYLIGHT
BEGIN:STANDARD
TZOFFSETFROM:-0500
TZOFFSETTO:-0600
TZNAME:CST
DTSTART:20251102T070000
END:STANDARD
BEGIN:DAYLIGHT
TZOFFSETFROM:-0600
TZOFFSETTO:-0500
TZNAME:CDT
DTSTART:20260308T080000
END:DAYLIGHT
BEGIN:STANDARD
TZOFFSETFROM:-0500
TZOFFSETTO:-0600
TZNAME:CST
DTSTART:20261101T070000
END:STANDARD
END:VTIMEZONE
BEGIN:VEVENT
DTSTART;VALUE=DATE:20250304
DTEND;VALUE=DATE:20250324
DTSTAMP:20260421T090659
CREATED:20241227T163026Z
LAST-MODIFIED:20241227T182345Z
UID:812-1741046400-1742774399@jetsetmedia.com
SUMMARY:Houston Livestock Show and Rodeo
DESCRIPTION:The Houston Livestock Show and Rodeo 2025 runs from March 4 to March 23\, 2025. It features thrilling rodeo events\, live concerts\, a massive livestock show\, a fun carnival\, and educational exhibits. It’s a celebration of Western heritage and supports Texas youth through scholarships.
URL:https://jetsetmedia.com/event/houston-livestock-show-and-rodeo/
LOCATION:NRG Park\, 3 NRG Park\, Houston\, TX\, 77054\, United States
CATEGORIES:Concerts,Rodeo
ATTACH;FMTTYPE=image/png:https://jetsetmedia.com/wp-content/uploads/HoustonRodeo_resized.png
END:VEVENT
END:VCALENDAR