BEGIN:VCALENDAR
VERSION:2.0
PRODID:-//JetSet Media - ECPv6.15.20//NONSGML v1.0//EN
CALSCALE:GREGORIAN
METHOD:PUBLISH
X-ORIGINAL-URL:https://jetsetmedia.com
X-WR-CALDESC:Events for JetSet Media
REFRESH-INTERVAL;VALUE=DURATION:PT1H
X-Robots-Tag:noindex
X-PUBLISHED-TTL:PT1H
BEGIN:VTIMEZONE
TZID:America/Chicago
BEGIN:DAYLIGHT
TZOFFSETFROM:-0600
TZOFFSETTO:-0500
TZNAME:CDT
DTSTART:20250309T080000
END:DAYLIGHT
BEGIN:STANDARD
TZOFFSETFROM:-0500
TZOFFSETTO:-0600
TZNAME:CST
DTSTART:20251102T070000
END:STANDARD
BEGIN:DAYLIGHT
TZOFFSETFROM:-0600
TZOFFSETTO:-0500
TZNAME:CDT
DTSTART:20260308T080000
END:DAYLIGHT
BEGIN:STANDARD
TZOFFSETFROM:-0500
TZOFFSETTO:-0600
TZNAME:CST
DTSTART:20261101T070000
END:STANDARD
BEGIN:DAYLIGHT
TZOFFSETFROM:-0600
TZOFFSETTO:-0500
TZNAME:CDT
DTSTART:20270314T080000
END:DAYLIGHT
BEGIN:STANDARD
TZOFFSETFROM:-0500
TZOFFSETTO:-0600
TZNAME:CST
DTSTART:20271107T070000
END:STANDARD
END:VTIMEZONE
BEGIN:VTIMEZONE
TZID:Europe/Dublin
BEGIN:STANDARD
TZOFFSETFROM:+0000
TZOFFSETTO:+0100
TZNAME:IST
DTSTART:20240331T010000
END:STANDARD
BEGIN:DAYLIGHT
TZOFFSETFROM:+0100
TZOFFSETTO:+0000
TZNAME:GMT
DTSTART:20241027T010000
END:DAYLIGHT
BEGIN:STANDARD
TZOFFSETFROM:+0000
TZOFFSETTO:+0100
TZNAME:IST
DTSTART:20250330T010000
END:STANDARD
BEGIN:DAYLIGHT
TZOFFSETFROM:+0100
TZOFFSETTO:+0000
TZNAME:GMT
DTSTART:20251026T010000
END:DAYLIGHT
BEGIN:STANDARD
TZOFFSETFROM:+0000
TZOFFSETTO:+0100
TZNAME:IST
DTSTART:20260329T010000
END:STANDARD
BEGIN:DAYLIGHT
TZOFFSETFROM:+0100
TZOFFSETTO:+0000
TZNAME:GMT
DTSTART:20261025T010000
END:DAYLIGHT
END:VTIMEZONE
BEGIN:VEVENT
DTSTART;VALUE=DATE:20260410
DTEND;VALUE=DATE:20260420
DTSTAMP:20260421T105249
CREATED:20260227T171438Z
LAST-MODIFIED:20260227T171438Z
UID:1239-1775779200-1776643199@jetsetmedia.com
SUMMARY:Coachella Valley Music & Arts Festival
DESCRIPTION:The Coachella Valley Music & Arts Festival\, commonly called Coachella\, is one of the largest and most famous music and arts festivals in the world. Held annually in Indio\, California\, it features multiple stages with live performances across genres including rock\, pop\, hip-hop\, electronic\, and indie music\, along with large-scale art installations and immersive experiences.
URL:https://jetsetmedia.com/event/coachella-valley-music-arts-festival/
LOCATION:Empire Polo Club\, 81800 51st Ave\, Indio\, CA\, 92201\, United States
CATEGORIES:Music Festival
ATTACH;FMTTYPE=image/png:https://jetsetmedia.com/wp-content/uploads/MusicFestival_resized-1.png
END:VEVENT
BEGIN:VEVENT
DTSTART;VALUE=DATE:20260327
DTEND;VALUE=DATE:20260330
DTSTAMP:20260421T105249
CREATED:20260227T170319Z
LAST-MODIFIED:20260227T170319Z
UID:1225-1774569600-1774828799@jetsetmedia.com
SUMMARY:Ultra Music Festival
DESCRIPTION:Ultra Music Festival (UMF) is a world-renowned annual electronic music festival held in Miami\, Florida. Founded in 1999 by Russell Faibisch and Alex Omes\, it has become one of the largest and most influential electronic dance music (EDM) events globally\, attracting top DJs\, producers\, and fans from around the world. The festival features multiple stages\, immersive visual productions\, and performances spanning EDM genres including house\, techno\, trance\, dubstep\, and more.
URL:https://jetsetmedia.com/event/ultra-music-festival/
LOCATION:Bayfront Park\, 301 Biscayne Blvd\, Miami\, Florida\, 33132\, United States
CATEGORIES:Music Festival
ATTACH;FMTTYPE=image/png:https://jetsetmedia.com/wp-content/uploads/MusicFestival_resized-1.png
END:VEVENT
BEGIN:VEVENT
DTSTART;VALUE=DATE:20250808
DTEND;VALUE=DATE:20250901
DTSTAMP:20260421T105249
CREATED:20250305T160403Z
LAST-MODIFIED:20250305T160925Z
UID:1010-1754611200-1756684799@jetsetmedia.com
SUMMARY:Edinburgh International Festival 2025
DESCRIPTION:The Edinburgh International Festival is one of the world’s most prestigious arts festivals\, featuring a curated selection of performances in opera\, music\, theatre\, and dance. The 2025 edition\, themed “The Truth We Seek\,” invites audiences to explore multifaceted interpretations of truth through various art forms. The festival brings together world-class artists and performers\, offering a unique and unforgettable cultural experience.
URL:https://jetsetmedia.com/event/edinburgh-international-festival/
LOCATION:Edinburgh\, Edinburgh\, Scotland\, United Kingdom
CATEGORIES:Art,Concerts,Dance,Music Festival,Opera
ATTACH;FMTTYPE=image/png:https://jetsetmedia.com/wp-content/uploads/Edinburgh.png
END:VEVENT
BEGIN:VEVENT
DTSTART;VALUE=DATE:20260312
DTEND;VALUE=DATE:20260319
DTSTAMP:20260421T105249
CREATED:20241017T213013Z
LAST-MODIFIED:20250502T203655Z
UID:758-1773273600-1773878399@jetsetmedia.com
SUMMARY:SXSW
DESCRIPTION:Celebrating its 40th anniversary\, SXSW 2026 will feature a condensed seven-day format\, with the Interactive\, Film & TV\, and Music tracks running concurrently. This change aims to provide attendees with a more integrated and immersive experience.
URL:https://jetsetmedia.com/event/sxsw/
LOCATION:Various locations in Austin\, Austin\, TX\, United States
CATEGORIES:Music Festival
ATTACH;FMTTYPE=image/png:https://jetsetmedia.com/wp-content/uploads/MusicFestival_resized.png
END:VEVENT
END:VCALENDAR