BEGIN:VCALENDAR
VERSION:2.0
PRODID:-//JetSet Media - ECPv6.15.20//NONSGML v1.0//EN
CALSCALE:GREGORIAN
METHOD:PUBLISH
X-ORIGINAL-URL:https://jetsetmedia.com
X-WR-CALDESC:Events for JetSet Media
REFRESH-INTERVAL;VALUE=DURATION:PT1H
X-Robots-Tag:noindex
X-PUBLISHED-TTL:PT1H
BEGIN:VTIMEZONE
TZID:America/Chicago
BEGIN:DAYLIGHT
TZOFFSETFROM:-0600
TZOFFSETTO:-0500
TZNAME:CDT
DTSTART:20250309T080000
END:DAYLIGHT
BEGIN:STANDARD
TZOFFSETFROM:-0500
TZOFFSETTO:-0600
TZNAME:CST
DTSTART:20251102T070000
END:STANDARD
BEGIN:DAYLIGHT
TZOFFSETFROM:-0600
TZOFFSETTO:-0500
TZNAME:CDT
DTSTART:20260308T080000
END:DAYLIGHT
BEGIN:STANDARD
TZOFFSETFROM:-0500
TZOFFSETTO:-0600
TZNAME:CST
DTSTART:20261101T070000
END:STANDARD
BEGIN:DAYLIGHT
TZOFFSETFROM:-0600
TZOFFSETTO:-0500
TZNAME:CDT
DTSTART:20270314T080000
END:DAYLIGHT
BEGIN:STANDARD
TZOFFSETFROM:-0500
TZOFFSETTO:-0600
TZNAME:CST
DTSTART:20271107T070000
END:STANDARD
END:VTIMEZONE
BEGIN:VEVENT
DTSTART;VALUE=DATE:20260423
DTEND;VALUE=DATE:20260504
DTSTAMP:20260421T124958
CREATED:20260227T175127Z
LAST-MODIFIED:20260227T175127Z
UID:1259-1776902400-1777852799@jetsetmedia.com
SUMMARY:New Orleans Jazz & Heritage Festival (Jazz Fest)
DESCRIPTION:The New Orleans Jazz & Heritage Festival\, popularly known as Jazz Fest\, is an annual music and cultural festival held in New Orleans\, Louisiana. Founded in 1970 by George Wein\, the festival celebrates the city’s rich musical heritage\, diverse cultures\, cuisine\, and traditions.
URL:https://jetsetmedia.com/event/new-orleans-jazz-heritage-festival-jazz-fest/
LOCATION:Fair Grounds Race Course\, 1751 Gentilly Blvd\, New Orleans\, LA\, 70119\, United States
CATEGORIES:Music Festival
ATTACH;FMTTYPE=image/jpeg:https://jetsetmedia.com/wp-content/uploads/musicfest_resized.jpg
END:VEVENT
END:VCALENDAR