BEGIN:VCALENDAR
VERSION:2.0
PRODID:-//JetSet Media - ECPv6.15.20//NONSGML v1.0//EN
CALSCALE:GREGORIAN
METHOD:PUBLISH
X-WR-CALNAME:JetSet Media
X-ORIGINAL-URL:https://jetsetmedia.com
X-WR-CALDESC:Events for JetSet Media
REFRESH-INTERVAL;VALUE=DURATION:PT1H
X-Robots-Tag:noindex
X-PUBLISHED-TTL:PT1H
BEGIN:VTIMEZONE
TZID:America/New_York
BEGIN:DAYLIGHT
TZOFFSETFROM:-0500
TZOFFSETTO:-0400
TZNAME:EDT
DTSTART:20240310T070000
END:DAYLIGHT
BEGIN:STANDARD
TZOFFSETFROM:-0400
TZOFFSETTO:-0500
TZNAME:EST
DTSTART:20241103T060000
END:STANDARD
BEGIN:DAYLIGHT
TZOFFSETFROM:-0500
TZOFFSETTO:-0400
TZNAME:EDT
DTSTART:20250309T070000
END:DAYLIGHT
BEGIN:STANDARD
TZOFFSETFROM:-0400
TZOFFSETTO:-0500
TZNAME:EST
DTSTART:20251102T060000
END:STANDARD
BEGIN:DAYLIGHT
TZOFFSETFROM:-0500
TZOFFSETTO:-0400
TZNAME:EDT
DTSTART:20260308T070000
END:DAYLIGHT
BEGIN:STANDARD
TZOFFSETFROM:-0400
TZOFFSETTO:-0500
TZNAME:EST
DTSTART:20261101T060000
END:STANDARD
BEGIN:DAYLIGHT
TZOFFSETFROM:-0500
TZOFFSETTO:-0400
TZNAME:EDT
DTSTART:20270314T070000
END:DAYLIGHT
BEGIN:STANDARD
TZOFFSETFROM:-0400
TZOFFSETTO:-0500
TZNAME:EST
DTSTART:20271107T060000
END:STANDARD
END:VTIMEZONE
BEGIN:VTIMEZONE
TZID:America/Chicago
BEGIN:DAYLIGHT
TZOFFSETFROM:-0600
TZOFFSETTO:-0500
TZNAME:CDT
DTSTART:20240310T080000
END:DAYLIGHT
BEGIN:STANDARD
TZOFFSETFROM:-0500
TZOFFSETTO:-0600
TZNAME:CST
DTSTART:20241103T070000
END:STANDARD
BEGIN:DAYLIGHT
TZOFFSETFROM:-0600
TZOFFSETTO:-0500
TZNAME:CDT
DTSTART:20250309T080000
END:DAYLIGHT
BEGIN:STANDARD
TZOFFSETFROM:-0500
TZOFFSETTO:-0600
TZNAME:CST
DTSTART:20251102T070000
END:STANDARD
BEGIN:DAYLIGHT
TZOFFSETFROM:-0600
TZOFFSETTO:-0500
TZNAME:CDT
DTSTART:20260308T080000
END:DAYLIGHT
BEGIN:STANDARD
TZOFFSETFROM:-0500
TZOFFSETTO:-0600
TZNAME:CST
DTSTART:20261101T070000
END:STANDARD
BEGIN:DAYLIGHT
TZOFFSETFROM:-0600
TZOFFSETTO:-0500
TZNAME:CDT
DTSTART:20270314T080000
END:DAYLIGHT
BEGIN:STANDARD
TZOFFSETFROM:-0500
TZOFFSETTO:-0600
TZNAME:CST
DTSTART:20271107T070000
END:STANDARD
END:VTIMEZONE
BEGIN:VEVENT
DTSTART;VALUE=DATE:20260210
DTEND;VALUE=DATE:20260216
DTSTAMP:20260422T111834
CREATED:20250121T191908Z
LAST-MODIFIED:20250530T173612Z
UID:971-1770681600-1771199999@jetsetmedia.com
SUMMARY:Longines FEI Jumping World Cup™ Ocala
DESCRIPTION:The Longines FEI Jumping World Cup™ Ocala is a prestigious event featuring top equestrian athletes competing in a five-star show jumping competition. The Longines FEI Jumping World Cup™ Ocala is a CSI5*-W-rated competition that attracts top international riders and horses. As the final NAL qualifier before the World Cup Final\, it plays a crucial role in determining the riders who will advance to the championship event.
URL:https://jetsetmedia.com/event/longines-fei-jumping-world-cup-ocala/
LOCATION:World Equestrian Center\, 1390 NW 80th Ave\, Ocala\, FL\, 34482\, United States
CATEGORIES:Equestrian Show
ATTACH;FMTTYPE=image/png:https://jetsetmedia.com/wp-content/uploads/EquestrianEvent-2.png
END:VEVENT
BEGIN:VEVENT
DTSTART;VALUE=DATE:20260124
DTEND;VALUE=DATE:20260126
DTSTAMP:20260422T111834
CREATED:20250121T190213Z
LAST-MODIFIED:20250502T183239Z
UID:959-1769212800-1769385599@jetsetmedia.com
SUMMARY:Wheels UP Grand Prix CSI3
DESCRIPTION:The Wheels Up Grand Prix CSI3* is a premier international show jumping competition held at the World Equestrian Center – Ocala in Florida. This prestigious event attracts top equestrian athletes from around the globe\, showcasing their skills in high-stakes show jumping. The 2026 edition promises to deliver thrilling performances\, with riders competing for significant prize money and international acclaim.
URL:https://jetsetmedia.com/event/wheels-up-grand-prix-csi3/
LOCATION:World Equestrian Center\, 1390 NW 80th Ave\, Ocala\, FL\, 34482\, United States
CATEGORIES:Equestrian Show
ATTACH;FMTTYPE=image/png:https://jetsetmedia.com/wp-content/uploads/EquestrianEvent-1.png
END:VEVENT
BEGIN:VEVENT
DTSTART;VALUE=DATE:20250318
DTEND;VALUE=DATE:20250324
DTSTAMP:20260422T111834
CREATED:20250121T193244Z
LAST-MODIFIED:20250121T193244Z
UID:986-1742256000-1742774399@jetsetmedia.com
SUMMARY:Longines League of Nations™
DESCRIPTION:The Longines League of Nations™ is a premier team-based international jumping series. The 2025 event in Ocala will feature the world’s top 10 teams competing for over $1.4 million in awards and prize money. Highlights include the $770\,000 team competition on March 22\, 2025.
URL:https://jetsetmedia.com/event/longines-league-of-nations/
LOCATION:World Equestrian Center\, 1390 NW 80th Ave\, Ocala\, FL\, 34482\, United States
CATEGORIES:Equestrian Show
ATTACH;FMTTYPE=image/png:https://jetsetmedia.com/wp-content/uploads/EquestrianEvent2-4.png
END:VEVENT
BEGIN:VEVENT
DTSTART;VALUE=DATE:20250315
DTEND;VALUE=DATE:20250316
DTSTAMP:20260422T111834
CREATED:20250121T193051Z
LAST-MODIFIED:20250121T193051Z
UID:983-1741996800-1742083199@jetsetmedia.com
SUMMARY:IDA Development National Grand Prix – WEC Stadium
DESCRIPTION:The IDA Development National Grand Prix is part of the Winter Spectacular Show Series at the World Equestrian Center in Ocala. This event features top equestrian athletes competing in a high-stakes show jumping competition with a prize of $125\,000.
URL:https://jetsetmedia.com/event/ida-development-national-grand-prix-wec-stadium/
LOCATION:World Equestrian Center\, 1390 NW 80th Ave\, Ocala\, FL\, 34482\, United States
CATEGORIES:Equestrian Show
ATTACH;FMTTYPE=image/png:https://jetsetmedia.com/wp-content/uploads/EquestrianEvent2-3.png
END:VEVENT
BEGIN:VEVENT
DTSTART;VALUE=DATE:20250308
DTEND;VALUE=DATE:20250309
DTSTAMP:20260422T111834
CREATED:20250121T192910Z
LAST-MODIFIED:20250121T192910Z
UID:980-1741392000-1741478399@jetsetmedia.com
SUMMARY:Alltech Grand Prix CSI3
DESCRIPTION:The Alltech Grand Prix CSI3 is part of the Winter Spectacular Show Series at the World Equestrian Center in Ocala. This event features top equestrian athletes competing in a high-stakes show jumping competition with a prize of $120\,000.
URL:https://jetsetmedia.com/event/alltech-grand-prix-csi3/
LOCATION:World Equestrian Center\, 1390 NW 80th Ave\, Ocala\, FL\, 34482\, United States
CATEGORIES:Equestrian Show
ATTACH;FMTTYPE=image/png:https://jetsetmedia.com/wp-content/uploads/EquestrianEvent-3.png
END:VEVENT
BEGIN:VEVENT
DTSTART;VALUE=DATE:20250301
DTEND;VALUE=DATE:20250302
DTSTAMP:20260422T111834
CREATED:20250121T192653Z
LAST-MODIFIED:20250121T192705Z
UID:977-1740787200-1740873599@jetsetmedia.com
SUMMARY:MARS Equestrian Grand Prix CSI4
DESCRIPTION:The MARS Equestrian Grand Prix CSI4 is part of the Winter Spectacular Show Series at the World Equestrian Center in Ocala. This event features top equestrian athletes competing in a high-stakes show jumping competition with a prize of $200\,000.
URL:https://jetsetmedia.com/event/mars-equestrian-grand-prix-csi4/
LOCATION:World Equestrian Center\, 1390 NW 80th Ave\, Ocala\, FL\, 34482\, United States
CATEGORIES:Equestrian Show
ATTACH;FMTTYPE=image/png:https://jetsetmedia.com/wp-content/uploads/EquestrianEvent2-2.png
END:VEVENT
BEGIN:VEVENT
DTSTART;VALUE=DATE:20250222
DTEND;VALUE=DATE:20250223
DTSTAMP:20260422T111834
CREATED:20250121T192539Z
LAST-MODIFIED:20250121T192539Z
UID:974-1740182400-1740268799@jetsetmedia.com
SUMMARY:Florida Coast Equipment Grand Prix CSI4
DESCRIPTION:The Florida Coast Equipment Grand Prix CSI4 is part of the Winter Spectacular Show Series at the World Equestrian Center in Ocala. This event features top equestrian athletes competing in a high-stakes show jumping competition with a prize of $200\,000.
URL:https://jetsetmedia.com/event/florida-coast-equipment-grand-prix-csi4/
LOCATION:World Equestrian Center\, 1390 NW 80th Ave\, Ocala\, FL\, 34482\, United States
CATEGORIES:Equestrian Show
ATTACH;FMTTYPE=image/png:https://jetsetmedia.com/wp-content/uploads/EquestrianEvent2-1.png
END:VEVENT
BEGIN:VEVENT
DTSTART;VALUE=DATE:20250208
DTEND;VALUE=DATE:20250209
DTSTAMP:20260422T111834
CREATED:20250121T191321Z
LAST-MODIFIED:20250121T191713Z
UID:968-1738972800-1739059199@jetsetmedia.com
SUMMARY:WEC Premier Equitation Cup Championship
DESCRIPTION:The WEC Premier Equitation Cup Championship is a prestigious event for junior riders\, featuring three phases: jumping\, flat\, and a test phase. Competitors vie for the Premier Cup title\, a brand-new car\, and $100\,000 in trainer awards. The event is part of the Winter Spectacular Show Series at the World Equestrian Center in Ocala.
URL:https://jetsetmedia.com/event/wec-premier-equitation-cup-championship/
LOCATION:World Equestrian Center\, 1390 NW 80th Ave\, Ocala\, FL\, 34482\, United States
CATEGORIES:Equestrian Show
ATTACH;FMTTYPE=image/png:https://jetsetmedia.com/wp-content/uploads/EquestrianEvent2.png
END:VEVENT
BEGIN:VEVENT
DTSTART;VALUE=DATE:20250201
DTEND;VALUE=DATE:20250202
DTSTAMP:20260422T111834
CREATED:20250121T190806Z
LAST-MODIFIED:20250121T190806Z
UID:963-1738368000-1738454399@jetsetmedia.com
SUMMARY:Armed Services Grand Prix CSI4
DESCRIPTION:The Armed Services Grand Prix CSI4 is part of the Winter Spectacular Show Series at the World Equestrian Center in Ocala. This event features top equestrian athletes competing in a high-stakes show jumping competition with a prize of $200\,000.
URL:https://jetsetmedia.com/event/armed-services-grand-prix-csi4/
LOCATION:World Equestrian Center\, 1390 NW 80th Ave\, Ocala\, FL\, 34482\, United States
CATEGORIES:Equestrian Show
ATTACH;FMTTYPE=image/png:https://jetsetmedia.com/wp-content/uploads/EquestrianEvent.png
END:VEVENT
END:VCALENDAR