BEGIN:VCALENDAR
VERSION:2.0
PRODID:-//JetSet Media - ECPv6.15.20//NONSGML v1.0//EN
CALSCALE:GREGORIAN
METHOD:PUBLISH
X-ORIGINAL-URL:https://jetsetmedia.com
X-WR-CALDESC:Events for JetSet Media
REFRESH-INTERVAL;VALUE=DURATION:PT1H
X-Robots-Tag:noindex
X-PUBLISHED-TTL:PT1H
BEGIN:VTIMEZONE
TZID:America/Chicago
BEGIN:DAYLIGHT
TZOFFSETFROM:-0600
TZOFFSETTO:-0500
TZNAME:CDT
DTSTART:20240310T080000
END:DAYLIGHT
BEGIN:STANDARD
TZOFFSETFROM:-0500
TZOFFSETTO:-0600
TZNAME:CST
DTSTART:20241103T070000
END:STANDARD
BEGIN:DAYLIGHT
TZOFFSETFROM:-0600
TZOFFSETTO:-0500
TZNAME:CDT
DTSTART:20250309T080000
END:DAYLIGHT
BEGIN:STANDARD
TZOFFSETFROM:-0500
TZOFFSETTO:-0600
TZNAME:CST
DTSTART:20251102T070000
END:STANDARD
BEGIN:DAYLIGHT
TZOFFSETFROM:-0600
TZOFFSETTO:-0500
TZNAME:CDT
DTSTART:20260308T080000
END:DAYLIGHT
BEGIN:STANDARD
TZOFFSETFROM:-0500
TZOFFSETTO:-0600
TZNAME:CST
DTSTART:20261101T070000
END:STANDARD
END:VTIMEZONE
BEGIN:VEVENT
DTSTART;VALUE=DATE:20250818
DTEND;VALUE=DATE:20250822
DTSTAMP:20260419T224047
CREATED:20250619T174514Z
LAST-MODIFIED:20250619T183433Z
UID:1160-1755475200-1755820799@jetsetmedia.com
SUMMARY:Wyoming Blockchain Symposium
DESCRIPTION:Known for its forward-thinking crypto laws\, Wyoming hosts this premier event featuring keynotes\, panels\, and networking with developers\, investors\, and policymakers shaping the future of Web3.
URL:https://jetsetmedia.com/event/wyoming-blockchain-symposium-2025/
LOCATION:Four Seasons Jackson Hole\, 7680 Granite Rd\, Teton Village\, WY\, 83025\, United States
CATEGORIES:Economic Forum,Technology
ATTACH;FMTTYPE=image/png:https://jetsetmedia.com/wp-content/uploads/DavisWorldEconomicForum_Resized-2.png
END:VEVENT
END:VCALENDAR