BEGIN:VCALENDAR
VERSION:2.0
PRODID:-//JetSet Media - ECPv6.15.20//NONSGML v1.0//EN
CALSCALE:GREGORIAN
METHOD:PUBLISH
X-WR-CALNAME:JetSet Media
X-ORIGINAL-URL:https://jetsetmedia.com
X-WR-CALDESC:Events for JetSet Media
REFRESH-INTERVAL;VALUE=DURATION:PT1H
X-Robots-Tag:noindex
X-PUBLISHED-TTL:PT1H
BEGIN:VTIMEZONE
TZID:Europe/Paris
BEGIN:DAYLIGHT
TZOFFSETFROM:+0100
TZOFFSETTO:+0200
TZNAME:CEST
DTSTART:20240331T010000
END:DAYLIGHT
BEGIN:STANDARD
TZOFFSETFROM:+0200
TZOFFSETTO:+0100
TZNAME:CET
DTSTART:20241027T010000
END:STANDARD
BEGIN:DAYLIGHT
TZOFFSETFROM:+0100
TZOFFSETTO:+0200
TZNAME:CEST
DTSTART:20250330T010000
END:DAYLIGHT
BEGIN:STANDARD
TZOFFSETFROM:+0200
TZOFFSETTO:+0100
TZNAME:CET
DTSTART:20251026T010000
END:STANDARD
BEGIN:DAYLIGHT
TZOFFSETFROM:+0100
TZOFFSETTO:+0200
TZNAME:CEST
DTSTART:20260329T010000
END:DAYLIGHT
BEGIN:STANDARD
TZOFFSETFROM:+0200
TZOFFSETTO:+0100
TZNAME:CET
DTSTART:20261025T010000
END:STANDARD
END:VTIMEZONE
BEGIN:VEVENT
DTSTART;TZID=Europe/Paris:20250120T080000
DTEND;TZID=Europe/Paris:20250124T180000
DTSTAMP:20260420T110620
CREATED:20241017T212022Z
LAST-MODIFIED:20241227T170708Z
UID:729-1737360000-1737741600@jetsetmedia.com
SUMMARY:Davos World Economic Forum
DESCRIPTION:The World Economic Forum Annual Meeting in Davos brings together global leaders from business\, government\, and civil society to discuss and address pressing global issues.
URL:https://jetsetmedia.com/event/davos-world-economic-forum/
LOCATION:Davos Congress Centre\, Talstrasse 49a\, 7270 Davos Platz\, RR2J+C8\, Switzerland
CATEGORIES:Economic Forum
ATTACH;FMTTYPE=image/png:https://jetsetmedia.com/wp-content/uploads/DavisWorldEconomicForum_Resized.png
END:VEVENT
END:VCALENDAR