BEGIN:VCALENDAR
VERSION:2.0
PRODID:-//JetSet Media - ECPv6.15.20//NONSGML v1.0//EN
CALSCALE:GREGORIAN
METHOD:PUBLISH
X-ORIGINAL-URL:https://jetsetmedia.com
X-WR-CALDESC:Events for JetSet Media
REFRESH-INTERVAL;VALUE=DURATION:PT1H
X-Robots-Tag:noindex
X-PUBLISHED-TTL:PT1H
BEGIN:VTIMEZONE
TZID:America/Chicago
BEGIN:DAYLIGHT
TZOFFSETFROM:-0600
TZOFFSETTO:-0500
TZNAME:CDT
DTSTART:20240310T080000
END:DAYLIGHT
BEGIN:STANDARD
TZOFFSETFROM:-0500
TZOFFSETTO:-0600
TZNAME:CST
DTSTART:20241103T070000
END:STANDARD
BEGIN:DAYLIGHT
TZOFFSETFROM:-0600
TZOFFSETTO:-0500
TZNAME:CDT
DTSTART:20250309T080000
END:DAYLIGHT
BEGIN:STANDARD
TZOFFSETFROM:-0500
TZOFFSETTO:-0600
TZNAME:CST
DTSTART:20251102T070000
END:STANDARD
BEGIN:DAYLIGHT
TZOFFSETFROM:-0600
TZOFFSETTO:-0500
TZNAME:CDT
DTSTART:20260308T080000
END:DAYLIGHT
BEGIN:STANDARD
TZOFFSETFROM:-0500
TZOFFSETTO:-0600
TZNAME:CST
DTSTART:20261101T070000
END:STANDARD
END:VTIMEZONE
BEGIN:VEVENT
DTSTART;VALUE=DATE:20250313
DTEND;VALUE=DATE:20250324
DTSTAMP:20260422T104640
CREATED:20241227T210818Z
LAST-MODIFIED:20241227T210818Z
UID:905-1741824000-1742774399@jetsetmedia.com
SUMMARY:Houston Ballet - The Sleeping Beauty
DESCRIPTION:The Sleeping Beauty marked a pivotal moment in the career of Artistic Director Emeritus Ben Stevenson O.B.E\, premiering in 1967 in London. Recognized as a supreme achievement of classical ballet\, this exquisite production of the French fairytale was first staged in 1978 and subsequently revamped in 1990 to grace the grand stage of the Wortham Theater Center. Stevenson’s rendition unfolds the timeless tale of the beautiful princess\, Aurora\, cursed by the malevolent fairy\, Carabosse. In a gripping narrative of good versus evil\, the Lilac Fairy bestows upon Aurora the gift of sleeping for a hundred years\, to awaken only with true love’s kiss. Set and costume designer Desmond Heeley adorns the stage with opulent sets and dazzling attire.
URL:https://jetsetmedia.com/event/houston-ballet-the-sleeping-beauty/
LOCATION:Wortham Theater Center\, 501 Texas Avenue\, Houston\, TX\, 77002\, United States
CATEGORIES:Ballet
ATTACH;FMTTYPE=image/png:https://jetsetmedia.com/wp-content/uploads/HoustonBallet.png
END:VEVENT
BEGIN:VEVENT
DTSTART;VALUE=DATE:20250227
DTEND;VALUE=DATE:20250310
DTSTAMP:20260422T104640
CREATED:20241227T211027Z
LAST-MODIFIED:20241227T211027Z
UID:909-1740614400-1741564799@jetsetmedia.com
SUMMARY:Houston Ballet - In the Night
DESCRIPTION:Three expressive ballets on this program offer a fascinating fusion of classical and contemporary artistry. Among them is Stanton Welch’s powerful Maninyas\, a breathtaking work that delves into the gradual and sometimes daunting process of revealing oneself in a relationship. Featuring a series of fierce pas de deux and pas de trois\, Maninyas earned acclaim as Welch’s first American commission for San Francisco Ballet\, inspiring Ben Stevenson\, Houston Ballet Artistic Director Emeritus\, to invite Welch to create his inaugural piece for the Company.
URL:https://jetsetmedia.com/event/houston-ballet-in-the-night/
LOCATION:Wortham Theater Center\, 501 Texas Avenue\, Houston\, TX\, 77002\, United States
CATEGORIES:Ballet
ATTACH;FMTTYPE=image/png:https://jetsetmedia.com/wp-content/uploads/HoustonBallet-1.png
END:VEVENT
END:VCALENDAR