BEGIN:VCALENDAR
VERSION:2.0
PRODID:-//JetSet Media - ECPv6.15.20//NONSGML v1.0//EN
CALSCALE:GREGORIAN
METHOD:PUBLISH
X-WR-CALNAME:JetSet Media
X-ORIGINAL-URL:https://jetsetmedia.com
X-WR-CALDESC:Events for JetSet Media
REFRESH-INTERVAL;VALUE=DURATION:PT1H
X-Robots-Tag:noindex
X-PUBLISHED-TTL:PT1H
BEGIN:VTIMEZONE
TZID:America/Chicago
BEGIN:DAYLIGHT
TZOFFSETFROM:-0600
TZOFFSETTO:-0500
TZNAME:CDT
DTSTART:20240310T080000
END:DAYLIGHT
BEGIN:STANDARD
TZOFFSETFROM:-0500
TZOFFSETTO:-0600
TZNAME:CST
DTSTART:20241103T070000
END:STANDARD
BEGIN:DAYLIGHT
TZOFFSETFROM:-0600
TZOFFSETTO:-0500
TZNAME:CDT
DTSTART:20250309T080000
END:DAYLIGHT
BEGIN:STANDARD
TZOFFSETFROM:-0500
TZOFFSETTO:-0600
TZNAME:CST
DTSTART:20251102T070000
END:STANDARD
BEGIN:DAYLIGHT
TZOFFSETFROM:-0600
TZOFFSETTO:-0500
TZNAME:CDT
DTSTART:20260308T080000
END:DAYLIGHT
BEGIN:STANDARD
TZOFFSETFROM:-0500
TZOFFSETTO:-0600
TZNAME:CST
DTSTART:20261101T070000
END:STANDARD
END:VTIMEZONE
BEGIN:VEVENT
DTSTART;VALUE=DATE:20251024
DTEND;VALUE=DATE:20251027
DTSTAMP:20260421T160149
CREATED:20250502T180219Z
LAST-MODIFIED:20250502T180408Z
UID:1091-1761264000-1761523199@jetsetmedia.com
SUMMARY:Art Basel Paris
DESCRIPTION:Art Basel Paris\, also known as Paris+ par Art Basel\, is a premier international art fair showcasing modern and contemporary artworks. Held at the iconic Grand Palais in Paris\, the event features leading galleries from around the world\, presenting a diverse range of art forms including paintings\, sculptures\, installations\, photography\, and digital art. The fair aims to build bridges with France’s cultural industries\, creating a flagship event embedded in Paris’s exceptional cultural ecosystem.
URL:https://jetsetmedia.com/event/art-basel-paris/
LOCATION:Grand Palais\, 3 avenue du Général Eisenhower\, Paris\, 75008\, France
CATEGORIES:Art
ATTACH;FMTTYPE=image/png:https://jetsetmedia.com/wp-content/uploads/ArtBasel_Paris_Resized.png
END:VEVENT
END:VCALENDAR