BEGIN:VCALENDAR
VERSION:2.0
PRODID:-//JetSet Media - ECPv6.15.20//NONSGML v1.0//EN
CALSCALE:GREGORIAN
METHOD:PUBLISH
X-WR-CALNAME:JetSet Media
X-ORIGINAL-URL:https://jetsetmedia.com
X-WR-CALDESC:Events for JetSet Media
REFRESH-INTERVAL;VALUE=DURATION:PT1H
X-Robots-Tag:noindex
X-PUBLISHED-TTL:PT1H
BEGIN:VTIMEZONE
TZID:America/Chicago
BEGIN:DAYLIGHT
TZOFFSETFROM:-0600
TZOFFSETTO:-0500
TZNAME:CDT
DTSTART:20250309T080000
END:DAYLIGHT
BEGIN:STANDARD
TZOFFSETFROM:-0500
TZOFFSETTO:-0600
TZNAME:CST
DTSTART:20251102T070000
END:STANDARD
BEGIN:DAYLIGHT
TZOFFSETFROM:-0600
TZOFFSETTO:-0500
TZNAME:CDT
DTSTART:20260308T080000
END:DAYLIGHT
BEGIN:STANDARD
TZOFFSETFROM:-0500
TZOFFSETTO:-0600
TZNAME:CST
DTSTART:20261101T070000
END:STANDARD
BEGIN:DAYLIGHT
TZOFFSETFROM:-0600
TZOFFSETTO:-0500
TZNAME:CDT
DTSTART:20270314T080000
END:DAYLIGHT
BEGIN:STANDARD
TZOFFSETFROM:-0500
TZOFFSETTO:-0600
TZNAME:CST
DTSTART:20271107T070000
END:STANDARD
END:VTIMEZONE
BEGIN:VEVENT
DTSTART;VALUE=DATE:20260418
DTEND;VALUE=DATE:20260423
DTSTAMP:20260420T022728
CREATED:20260227T173557Z
LAST-MODIFIED:20260227T173832Z
UID:1250-1776470400-1776902399@jetsetmedia.com
SUMMARY:National Association of Broadcasters Conference (NAB)
DESCRIPTION:The NAB Show is the premier annual trade show for the broadcast\, media\, and entertainment technology industry\, held in Las Vegas\, Nevada. Organized by the National Association of Broadcasters (NAB)\, the event showcases cutting-edge technologies in content creation\, management\, delivery\, and monetization\, including broadcast\, streaming\, film\, radio\, and digital media solutions.
URL:https://jetsetmedia.com/event/national-association-of-broadcasters-conference-nab/
LOCATION:Las Vegas Convention Center\, 3150 Paradise Rd\, Las Vegas\, NV\, 89109\, United States
CATEGORIES:Conventions
ATTACH;FMTTYPE=image/jpeg:https://jetsetmedia.com/wp-content/uploads/broadcastersaward_resized-1.jpg
END:VEVENT
BEGIN:VEVENT
DTSTART;VALUE=DATE:20260420
DTEND;VALUE=DATE:20260421
DTSTAMP:20260420T022728
CREATED:20260227T174425Z
LAST-MODIFIED:20260227T174425Z
UID:1254-1776643200-1776729599@jetsetmedia.com
SUMMARY:Boston Marathon
DESCRIPTION:The Boston Marathon is one of the oldest and most prestigious annual marathon races in the world\, held every year on Patriots’ Day (the third Monday in April) in Boston\, Massachusetts. Established in 1897\, it is the world’s oldest annual marathon and one of the six World Marathon Majors. The event attracts elite professional runners\, amateur athletes\, and charity participants from across the globe\, covering a 26.2-mile (42.195 km) course from Hopkinton to Boston’s Copley Square. The Boston Marathon is renowned for its challenging course\, including the infamous Heartbreak Hill\, and its historic traditions\, including cheering crowds\, community involvement\, and the awarding of the famous Boston Marathon medals.
URL:https://jetsetmedia.com/event/boston-marathon/
LOCATION:Boston Marathon Finish Line\, Boylston St & Dartmouth St\, Boston\, MA\, 02116\, United States
CATEGORIES:Marathon
ATTACH;FMTTYPE=image/jpeg:https://jetsetmedia.com/wp-content/uploads/marathon_resized.jpg
END:VEVENT
END:VCALENDAR